BEGIN:VCALENDAR
VERSION:2.0
PRODID:-//Octet Cloud//vPim 13.11.11//EN
CALSCALE:Gregorian
BEGIN:VEVENT
DTSTART:20191204T133000
DTEND:20191204T153000
SUMMARY:PSC Meeting - December
DESCRIPTION:
URL:https://www.kaiproject.com/websites/56/meetings/369
CREATED:20260421T031908
LAST-MODIFIED:20260421T031908
SEQUENCE:0
CLASS:PRIVATE
END:VEVENT
END:VCALENDAR
