BEGIN:VCALENDAR
VERSION:2.0
PRODID:-//Octet Cloud//vPim 13.11.11//EN
CALSCALE:Gregorian
BEGIN:VEVENT
DTSTART:20180925T190000
DTEND:20180925T200000
SUMMARY:City Council Hearing
DESCRIPTION:The Molalla City Council will hold a public meeting on Wednesda
 y\, September 26\, 2018 at 7pm to consider adoption of the Molalla Transpor
 tation System Plan (TSP) Update. The TSP Update along with all previous tec
 h memos that provide background information and support to the TSP Update a
 re provided under [Project Documents](http://molallatsp.com/websites/44/pag
 es/237). The meeting will be held at the Molalla Adult Community Center\, 3
 15 Kennel Avenue\, and is open to the general public. The meeting will incl
 ude a brief presentation by the consultants followed by discussion on the T
 SP Update.
URL:https://www.kaiproject.com/websites/44/meetings/309
CREATED:20260421T031930
LAST-MODIFIED:20260421T031930
SEQUENCE:0
CLASS:PRIVATE
END:VEVENT
END:VCALENDAR
