BEGIN:VCALENDAR
VERSION:1.0
PRODID:-//Octet Cloud//vPim 13.11.11//EN
CALSCALE:Gregorian
BEGIN:VEVENT
DTSTART:20180718T180000
DTEND:20180718T200000
SUMMARY:City Council and Planning Commission Joint Work Session #2
DESCRIPTION:The Molalla City Council and Planning Commission will hold a Jo
 int Work Session on Wednesday\, July 18 at the Molalla Adult Community Cent
 er to discuss the Draft Transportation System Plan (TSP) Update. The Draft 
 TSP Update is currently available on the project website under [Project Doc
 uments]( http://molallatsp.com/websites/44/pages/237). The meeting will beg
 in at 6:00 p.m. and will include a brief presentation by the project consul
 tants followed by a discussion with the planning commission and city counci
 l on elements of the plan. The meeting is open to the public.
URL:https://www.kaiproject.com/websites/44/meetings/295
CREATED:20260421T032227
LAST-MODIFIED:20260421T032227
SEQUENCE:0
CLASS:PRIVATE
END:VEVENT
END:VCALENDAR
