BEGIN:VCALENDAR
VERSION:2.0
PRODID:-//Octet Cloud//vPim 13.11.11//EN
CALSCALE:Gregorian
BEGIN:VEVENT
DTSTART:20180510T183000
DTEND:20180510T203000
SUMMARY:Virtual Community Meeting #2
DESCRIPTION:Virtual Community Meeting #2 for the Molalla Transportation Sys
 tem Plan (TSP) Update is available now through May 24th on the [Project Web
 site](http://workshops.kaiproject.com/workshops/37-molalla-transportation-s
 ystem-plan-online-community-meeting-2).\n\nThe Virtual Community Meeting 
 offers the same opportunities to provide input as the in-person community m
 eeting that was held on Thursday\, May 10th at the Molalla Adult Community 
 Center. Please participate and help us shape the future of the City's Trans
 portation System!
URL:https://www.kaiproject.com/websites/44/meetings/287
CREATED:20260421T031908
LAST-MODIFIED:20260421T031908
SEQUENCE:0
CLASS:PRIVATE
END:VEVENT
END:VCALENDAR
