BEGIN:VCALENDAR
VERSION:2.0
PRODID:-//Octet Cloud//vPim 13.11.11//EN
CALSCALE:Gregorian
BEGIN:VEVENT
DTSTART:20180503T183000
DTEND:20180503T203000
SUMMARY:Project Advisory Committee #4
DESCRIPTION:Project Advisory Committee (PAC) #4 will be held on Thursday\, 
 May 3\, 2018 from 6:30 to 8:30 p.m.\n\nThe purpose of PAC meeting #4 is t
 o review and receive feedback on Draft Tech Memo 8: Planned and Financially
  Constrained Transportation Systems and to outline the project's next steps
 . The meeting will include a Power Point presentation\, poster session\, an
 d general discussion. An agenda and other meeting materials will be availab
 le on or before Thursday\, April 26 under <a href="http://www.molallatsp.co
 m/websites/44/pages/237">Project Documents</a>.\n\n
URL:https://www.kaiproject.com/websites/44/meetings/277
CREATED:20260421T032012
LAST-MODIFIED:20260421T032012
SEQUENCE:0
CLASS:PRIVATE
END:VEVENT
END:VCALENDAR
