BEGIN:VCALENDAR
VERSION:2.0
PRODID:-//Octet Cloud//vPim 13.11.11//EN
CALSCALE:Gregorian
BEGIN:VEVENT
DTSTART:20180510T180000
DTEND:20180510T200000
SUMMARY:Community Meeting #2
DESCRIPTION:The city is currently in the process of updating its Transporta
 tion System Plan (TSP)\, which is a long range planning document that ident
 ifies all of the transportation improvements needed within the city over th
 e next 20 years to accommodate population and employment growth. The City i
 s hosting an open house (Community Meeting #2) at 6:00 p.m. on Thursday May
  10th at the Adult Community Center to obtain input on the draft financiall
 y constrained plan\, which includes the transportation improvements that ar
 e most likely to be funded over the next 20 years. Please come to the meeti
 ng and share your input with the city and consultants or participate online
  via this website.\n\nThe open house will include a brief presentation to
  provide participants with an update on the planning process and a poster s
 ession where participants will be free to ask questions and share their tho
 ughts and concerns on transportation-related issues with City staff and the
  consultants. If you are unable to attend the meeting in person\, a Virtual
  Community Meeting will be available online starting Thursday\, May 10th an
 d continuing through Thursday\, May 24th. The Virtual Community Meeting wil
 l offer the same opportunities to provide input as the in-person meeting vi
 a the website.\n\nPlease plan on attending either the Community Meeting o
 r Virtual Community Meeting to help guide the city’s future transportation 
 system!\n
URL:https://www.kaiproject.com/websites/44/meetings/276
CREATED:20260421T031930
LAST-MODIFIED:20260421T031930
SEQUENCE:0
CLASS:PRIVATE
END:VEVENT
END:VCALENDAR
