BEGIN:VCALENDAR
VERSION:1.0
PRODID:-//Octet Cloud//vPim 13.11.11//EN
CALSCALE:Gregorian
BEGIN:VEVENT
DTSTART:20180220T183000
DTEND:20180220T203000
SUMMARY:Project Advisory Committee #3
DESCRIPTION:Project Advisory Committee (PAC) #3 will be held on Tuesday\, F
 ebruary 20\, 2018 from 6:30 to 8:30 p.m.\n\nThe purpose of PAC Meeting #3
  is to review and receive feedback on <i>Draft Tech Memo 6: TSP Solutions</
 i> and on <i>Draft Tech Memo 7: Regulatory Solutions</i>. The meeting will 
 include a Power Point presentation and discussion of these documents. An ag
 enda and other meeting materials will be  available on or before Tuesday\, 
 February 13 under <a href="http://www.molallatsp.com/websites/44/pages/237"
 >Project Documents</a>.
URL:https://www.kaiproject.com/websites/44/meetings/270
CREATED:20260421T032212
LAST-MODIFIED:20260421T032212
SEQUENCE:0
CLASS:PRIVATE
END:VEVENT
END:VCALENDAR
