BEGIN:VCALENDAR
VERSION:2.0
PRODID:-//Octet Cloud//vPim 13.11.11//EN
CALSCALE:Gregorian
BEGIN:VEVENT
DTSTART:20180220T150000
DTEND:20180220T170000
SUMMARY:Technical Advisory Committee Meeting #3
DESCRIPTION:Technical Advisory Committee (TAC) Meeting #3 will be held on T
 uesday\, February 20\, 2018 from 3:00 to 5:00 p.m.\n\nThe purpose of TAC 
 Meeting #3 is to review and receive feedback on <i>Draft Tech Memo 6: TSP S
 olutions</i> and on <i>Draft Tech Memo 7: Regulatory Solutions</i>. The mee
 ting will include a Power Point presentation and discussion of these docume
 nts. An agenda and other meeting materials will be available on or before T
 uesday\, February 13 under <a href="http://www.molallatsp.com/websites/44/p
 ages/237">Project Documents</a>.
URL:https://www.kaiproject.com/websites/44/meetings/269
CREATED:20260421T032037
LAST-MODIFIED:20260421T032037
SEQUENCE:0
CLASS:PRIVATE
END:VEVENT
END:VCALENDAR
