BEGIN:VCALENDAR
VERSION:1.0
PRODID:-//Octet Cloud//vPim 13.11.11//EN
CALSCALE:Gregorian
BEGIN:VEVENT
DTSTART:20171207T183000
DTEND:20171207T203000
SUMMARY:Virtual Community Meeting #1
DESCRIPTION:Virtual Community Meeting #1 for the Molalla Transportation Sys
 tem Plan (TSP) Update is available now through December 21st on the [Projec
 t Website](http://workshops.kaiproject.com/workshops/37-molalla-transportat
 ion-system-plan-online-community-meeting-1).\n\nThe Virtual Community Mee
 ting offers the same opportunities to provide input as the in-person meetin
 g that was held on Thursday December 7th at the Molalla Adult Community Cen
 ter. Please participate and help us shape the future of the City's Transpor
 tation System!
URL:https://www.kaiproject.com/websites/44/meetings/257
CREATED:20260421T032234
LAST-MODIFIED:20260421T032234
SEQUENCE:0
CLASS:PRIVATE
END:VEVENT
END:VCALENDAR
