BEGIN:VCALENDAR
VERSION:1.0
PRODID:-//Octet Cloud//vPim 13.11.11//EN
CALSCALE:Gregorian
BEGIN:VEVENT
DTSTART:20171207T183000
DTEND:20171207T203000
SUMMARY:Community Meeting #1
DESCRIPTION:<b>NEW VENUE - Community Meeting #1 for the Molalla Transportat
 ion System Plan (TSP) Update will be held on Thursday\, December 7th from 6
 :30 to 8:30 pm at the Molalla Adult Community Center in Molalla.</b>\n\nC
 ommunity Meeting #1 will provide participants with an introduction to the p
 roject and an overview of the planning process. Participants will be free t
 o ask questions and share their thoughts and concerns on transportation-rel
 ated issues with City staff and the consultants. A series of poster boards 
 will be used to illustrate the existing conditions and future needs associa
 ted with each of the major travel modes (ped\, bike\, transit\, and motor v
 ehicle) and to facilitate the discussion.\n\nIf you are unable to attend 
 the meeting in person\, a Virtual Community Meeting will be available onlin
 e starting Thursday\, December 7th and continuing through Thursday\, Decemb
 er 21st. The Virtual Community Meeting will offer the same opportunities to
  provide input as the in-person meeting via the website. Please plan on att
 ending either the Community Meeting or Virtual Community Meeting to help gu
 ide the city’s future transportation system!
URL:https://www.kaiproject.com/websites/44/meetings/254
CREATED:20260421T032345
LAST-MODIFIED:20260421T032345
SEQUENCE:0
CLASS:PRIVATE
END:VEVENT
END:VCALENDAR
