BEGIN:VCALENDAR
VERSION:2.0
PRODID:-//Octet Cloud//vPim 13.11.11//EN
CALSCALE:Gregorian
BEGIN:VEVENT
DTSTART:20171130T183000
DTEND:20171130T203000
SUMMARY:Project Advisory Committee #2
DESCRIPTION:Project Advisory Committee (PAC) Meeting #2 will be held on Thu
 rsday\, November 30\, 2017 from 6:30 - 8:30 p.m.\n\nThe purpose of PAC Me
 eting #2 is to review and receive feedback on <i>Draft Tech Memo 4: Existin
 g Transportation System</i> and on <i>Draft Tech Memo 5: Future Needs Analy
 sis</i>. The meeting will include a Power Point presentation and discussion
  of these documents. An agenda and other meeting materials will be  availab
 le on or before Thursday\, November 23 under <a href="http://www.molallatsp
 .com/websites/44/pages/237">Project Documents</a>.
URL:https://www.kaiproject.com/websites/44/meetings/253
CREATED:20260421T031909
LAST-MODIFIED:20260421T031909
SEQUENCE:0
CLASS:PRIVATE
END:VEVENT
END:VCALENDAR
