BEGIN:VCALENDAR
VERSION:2.0
PRODID:-//Octet Cloud//vPim 13.11.11//EN
CALSCALE:Gregorian
BEGIN:VEVENT
DTSTART:20171130T133000
DTEND:20171130T153000
SUMMARY:Technical Advisory Committee Meeting #2
DESCRIPTION:Technical Advisory Committee (TAC) Meeting #2 will be held on T
 hursday\, November 30\, 2017 at 1:30 p.m.\n\nThe purpose of TAC Meeting #
 2 is to review and receive feedback on <i>Draft Tech Memo 4: Existing Trans
 portation System</i> and on <i>Draft Tech Memo 5: Future Needs Analysis</i>
 . The meeting will include a Power Point presentation and discussion of the
 se documents. An agenda and other meeting materials will be  available on o
 r before Thursday\, November 23 under <a href="http://www.molallatsp.com/we
 bsites/44/pages/237">Project Documents</a>.
URL:https://www.kaiproject.com/websites/44/meetings/252
CREATED:20260421T031908
LAST-MODIFIED:20260421T031908
SEQUENCE:0
CLASS:PRIVATE
END:VEVENT
END:VCALENDAR
