BEGIN:VCALENDAR
VERSION:2.0
PRODID:-//Octet Cloud//vPim 13.11.11//EN
CALSCALE:Gregorian
BEGIN:VEVENT
DTSTART:20170921T150000
DTEND:20170921T170000
SUMMARY:Technical Advisory Committee Meeting #1
DESCRIPTION:Molalla is in the process of updating its Transportation System
  Plan (TSP)\, which is a long-range plan used to guide development of the t
 ransportation system over a 20 year period. As part of this effort\, a Tech
 nical Advisory Committee (TAC) consisting of City and County staff has been
  established to oversee development of the TSP and provide feedback and dir
 ection to the consultant team along the way. A listing of TAC membership ca
 n be found on the <a href="http://www.molallatsp.com/websites/44/pages/238"
 >Team Members page</a>.\n\nThe purpose of TAC Meeting #1 is to introduce 
 the TAC to the project and to review and receive feedback on Tech Memos 1-3
 . The meeting will include a power point presentation provided by the consu
 ltant team and discussion of these documents. An agenda for the meeting and
  other meeting materials will be available on the <a href="http://www.molal
 latsp.com/websites/44/pages/237">Project Documents page</a> on or before Se
 ptember 14\, 2017.
URL:https://www.kaiproject.com/websites/44/meetings/249
CREATED:20260421T031930
LAST-MODIFIED:20260421T031930
SEQUENCE:0
CLASS:PRIVATE
END:VEVENT
END:VCALENDAR
