BEGIN:VCALENDAR
VERSION:1.0
PRODID:-//Octet Cloud//vPim 13.11.11//EN
CALSCALE:Gregorian
BEGIN:VEVENT
DTSTART:20151209T150000
DTEND:20151209T170000
SUMMARY:TAC/CAC Meeting #4
DESCRIPTION:We will be reviewing the draft plan at TAC/CAC Meeting #4
URL:https://www.kaiproject.com/websites/33/meetings/190
CREATED:20260421T032227
LAST-MODIFIED:20260421T032227
SEQUENCE:0
CLASS:PRIVATE
END:VEVENT
END:VCALENDAR
