BEGIN:VCALENDAR
VERSION:1.0
PRODID:-//Octet Cloud//vPim 13.11.11//EN
CALSCALE:Gregorian
BEGIN:VEVENT
DTSTART:20150715T150000
DTEND:20150715T170000
SUMMARY:TAC/CAC Meeting #1
DESCRIPTION:
URL:https://www.kaiproject.com/websites/33/meetings/175
CREATED:20260421T032227
LAST-MODIFIED:20260421T032227
SEQUENCE:0
CLASS:PRIVATE
END:VEVENT
END:VCALENDAR
