BEGIN:VCALENDAR
VERSION:1.0
PRODID:-//Octet Cloud//vPim 13.11.11//EN
CALSCALE:Gregorian
BEGIN:VEVENT
DTSTART:20150811T180000
DTEND:20150811T200000
SUMMARY:Joint City Planning Commission and City Council Workshop
DESCRIPTION:Workshop with the Planning Commission and City Council to revie
 w the draft Bicycle and Pedestrian Plan (BPP) and implementing policies and
  ordinances.
URL:https://www.kaiproject.com/websites/24/meetings/156
CREATED:20260421T032346
LAST-MODIFIED:20260421T032346
SEQUENCE:0
CLASS:PRIVATE
END:VEVENT
END:VCALENDAR
