BEGIN:VCALENDAR
VERSION:1.0
PRODID:-//Octet Cloud//vPim 13.11.11//EN
CALSCALE:Gregorian
BEGIN:VEVENT
DTSTART:20150416T150000
DTEND:20150416T170000
SUMMARY:Stakeholder Advisory Committee (SAC) Meeting #2
DESCRIPTION:Review technical memorandum #5 and prepare for public open hous
 e.
URL:https://www.kaiproject.com/websites/24/meetings/152
CREATED:20260421T032227
LAST-MODIFIED:20260421T032227
SEQUENCE:0
CLASS:PRIVATE
END:VEVENT
END:VCALENDAR
