BEGIN:VCALENDAR
VERSION:1.0
PRODID:-//Octet Cloud//vPim 13.11.11//EN
CALSCALE:Gregorian
BEGIN:VEVENT
DTSTART:20141014T190000
DTEND:20141014T210000
SUMMARY:Planning Commision Meeting
DESCRIPTION:At their regularly scheduled meeting on October 14\, the Planni
 ng Commission will review the draft code amendments related to the Corridor
  Master Plan.  All Planning Commission meetings are open to the public.
URL:https://www.kaiproject.com/websites/17/meetings/144
CREATED:20260421T052130
LAST-MODIFIED:20260421T052130
SEQUENCE:0
CLASS:PRIVATE
END:VEVENT
END:VCALENDAR
