BEGIN:VCALENDAR
VERSION:1.0
PRODID:-//Octet Cloud//vPim 13.11.11//EN
CALSCALE:Gregorian
BEGIN:VEVENT
DTSTART:20130721T093000
DTEND:20130721T113000
SUMMARY:TSSC Schedule of Events
DESCRIPTION:Events for the TSSC Mid-Year Meeting will begin at 9:30AM on Su
 nday\, July 21 and run through 4:30PM on Tuesday\, July 23. All events will
  convene at the [Embassy Suites - Portland Downtown](http://embassysuites3.
 hilton.com/en/hotels/oregon/embassy-suites-portland-downtown-PDXPSES/index.
 html).\n\nThe **You Get What You Measure** Workshop on Monday\, July 22 m
 ay be registered for separately if participation in the three-day meeting i
 s not desired.  \n\n($2)
URL:https://www.kaiproject.com/websites/12/meetings/91
CREATED:20260421T014843
LAST-MODIFIED:20260421T014843
SEQUENCE:0
CLASS:PRIVATE
END:VEVENT
END:VCALENDAR
