BEGIN:VCALENDAR
VERSION:1.0
PRODID:-//Octet Cloud//vPim 13.11.11//EN
CALSCALE:Gregorian
BEGIN:VEVENT
DTSTART:20130417T140000
DTEND:20130417T160000
SUMMARY:Let's Kickoff the Great Falls LRTP!
DESCRIPTION:Join us for our first set of meetings with the Great Falls MPO\
 , Technical Advisory Committee\, and Policy Coordinating Committee.
URL:https://www.kaiproject.com/websites/11/meetings/77
CREATED:20260421T032211
LAST-MODIFIED:20260421T032211
SEQUENCE:0
CLASS:PRIVATE
END:VEVENT
END:VCALENDAR
